BEGIN:VCALENDAR
VERSION:2.0
PRODID:-//Dene Tha&#039; First Nation - ECPv6.15.20//NONSGML v1.0//EN
CALSCALE:GREGORIAN
METHOD:PUBLISH
X-WR-CALNAME:Dene Tha&#039; First Nation
X-ORIGINAL-URL:https://denetha.ca
X-WR-CALDESC:Events for Dene Tha&#039; First Nation
REFRESH-INTERVAL;VALUE=DURATION:PT1H
X-Robots-Tag:noindex
X-PUBLISHED-TTL:PT1H
BEGIN:VTIMEZONE
TZID:America/Edmonton
BEGIN:DAYLIGHT
TZOFFSETFROM:-0700
TZOFFSETTO:-0600
TZNAME:MDT
DTSTART:20250309T090000
END:DAYLIGHT
BEGIN:STANDARD
TZOFFSETFROM:-0600
TZOFFSETTO:-0700
TZNAME:MST
DTSTART:20251102T080000
END:STANDARD
BEGIN:DAYLIGHT
TZOFFSETFROM:-0700
TZOFFSETTO:-0600
TZNAME:MDT
DTSTART:20260308T090000
END:DAYLIGHT
BEGIN:STANDARD
TZOFFSETFROM:-0600
TZOFFSETTO:-0700
TZNAME:MST
DTSTART:20261101T080000
END:STANDARD
BEGIN:DAYLIGHT
TZOFFSETFROM:-0700
TZOFFSETTO:-0600
TZNAME:MDT
DTSTART:20270314T090000
END:DAYLIGHT
BEGIN:STANDARD
TZOFFSETFROM:-0600
TZOFFSETTO:-0700
TZNAME:MST
DTSTART:20271107T080000
END:STANDARD
END:VTIMEZONE
BEGIN:VEVENT
DTSTART;TZID=America/Edmonton:20260421T090000
DTEND;TZID=America/Edmonton:20260422T170000
DTSTAMP:20260425T093439
CREATED:20260416T172615Z
LAST-MODIFIED:20260416T172615Z
UID:3064-1776762000-1776877200@denetha.ca
SUMMARY:Safety Training - Intermediate First Aid Level C
DESCRIPTION:
URL:https://denetha.ca/event/safety-training-intermediate-first-aid-level-c/
END:VEVENT
BEGIN:VEVENT
DTSTART;TZID=America/Edmonton:20260423T090000
DTEND;TZID=America/Edmonton:20260423T170000
DTSTAMP:20260425T093439
CREATED:20260416T172938Z
LAST-MODIFIED:20260416T172938Z
UID:3068-1776934800-1776963600@denetha.ca
SUMMARY:Safety Training - Global Ground Disturbance Level 1
DESCRIPTION:
URL:https://denetha.ca/event/safety-training-global-ground-disturbance-level-1/
END:VEVENT
BEGIN:VEVENT
DTSTART;TZID=America/Edmonton:20260424T090000
DTEND;TZID=America/Edmonton:20260424T170000
DTSTAMP:20260425T093439
CREATED:20260416T173016Z
LAST-MODIFIED:20260416T173016Z
UID:3070-1777021200-1777050000@denetha.ca
SUMMARY:Safety Training - WHMIS & Bear Awareness
DESCRIPTION:
URL:https://denetha.ca/event/safety-training-whmis-bear-awareness/
END:VEVENT
BEGIN:VEVENT
DTSTART;TZID=America/Edmonton:20260504T100000
DTEND;TZID=America/Edmonton:20260504T160000
DTSTAMP:20260425T093439
CREATED:20260416T160756Z
LAST-MODIFIED:20260416T160805Z
UID:3041-1777888800-1777910400@denetha.ca
SUMMARY:Family Healing Camp - Meander River
DESCRIPTION:
URL:https://denetha.ca/event/family-healing-camp-meander-river/
END:VEVENT
BEGIN:VEVENT
DTSTART;TZID=America/Edmonton:20260505T100000
DTEND;TZID=America/Edmonton:20260505T160000
DTSTAMP:20260425T093439
CREATED:20260416T160843Z
LAST-MODIFIED:20260416T160843Z
UID:3043-1777975200-1777996800@denetha.ca
SUMMARY:Family Healing Camp - Meander River
DESCRIPTION:
URL:https://denetha.ca/event/family-healing-camp-meander-river-2/
END:VEVENT
BEGIN:VEVENT
DTSTART;TZID=America/Edmonton:20260506T100000
DTEND;TZID=America/Edmonton:20260506T160000
DTSTAMP:20260425T093439
CREATED:20260416T160920Z
LAST-MODIFIED:20260416T160920Z
UID:3045-1778061600-1778083200@denetha.ca
SUMMARY:Family Healing Camp - Meander River
DESCRIPTION:
URL:https://denetha.ca/event/family-healing-camp-meander-river-3/
END:VEVENT
BEGIN:VEVENT
DTSTART;TZID=America/Edmonton:20260507T100000
DTEND;TZID=America/Edmonton:20260507T160000
DTSTAMP:20260425T093439
CREATED:20260416T161053Z
LAST-MODIFIED:20260416T161053Z
UID:3049-1778148000-1778169600@denetha.ca
SUMMARY:Family Healing Camp - Meander River
DESCRIPTION:
URL:https://denetha.ca/event/family-healing-camp-meander-river-5/
END:VEVENT
BEGIN:VEVENT
DTSTART;TZID=America/Edmonton:20260508T100000
DTEND;TZID=America/Edmonton:20260508T160000
DTSTAMP:20260425T093439
CREATED:20260416T161000Z
LAST-MODIFIED:20260416T161000Z
UID:3047-1778234400-1778256000@denetha.ca
SUMMARY:Family Healing Camp - Meander River
DESCRIPTION:
URL:https://denetha.ca/event/family-healing-camp-meander-river-4/
END:VEVENT
END:VCALENDAR